BEGIN:VCALENDAR
VERSION:2.0
PRODID:-//Tukios.com/
BEGIN:VEVENT
UID:ac112070-3ef6-47df-875f-c5d6eb1c676e@www.hsckfh.com
DTSTAMP:20260421T204004Z
DTSTART:20260423T220000Z
DTEND:20260423T233000Z
SUMMARY:Celebration of Life
DESCRIPTION:
URL:https://www.hsckfh.com/obituaries/alfred-poteete
LOCATION: 18175 State Park Road  Charleston IL 61920
GEO:39.402764;-88.1356923
END:VEVENT
END:VCALENDAR